BEGIN:VCALENDAR
VERSION:2.0
PRODID:-//Ontario Crown Attorneys Association - ECPv6.9.0//NONSGML v1.0//EN
CALSCALE:GREGORIAN
METHOD:PUBLISH
X-ORIGINAL-URL:https://www.ocaa.ca
X-WR-CALDESC:Events for Ontario Crown Attorneys Association
REFRESH-INTERVAL;VALUE=DURATION:PT1H
X-Robots-Tag:noindex
X-PUBLISHED-TTL:PT1H
BEGIN:VTIMEZONE
TZID:America/Toronto
BEGIN:DAYLIGHT
TZOFFSETFROM:-0500
TZOFFSETTO:-0400
TZNAME:EDT
DTSTART:20180311T070000
END:DAYLIGHT
BEGIN:STANDARD
TZOFFSETFROM:-0400
TZOFFSETTO:-0500
TZNAME:EST
DTSTART:20181104T060000
END:STANDARD
BEGIN:DAYLIGHT
TZOFFSETFROM:-0500
TZOFFSETTO:-0400
TZNAME:EDT
DTSTART:20190310T070000
END:DAYLIGHT
BEGIN:STANDARD
TZOFFSETFROM:-0400
TZOFFSETTO:-0500
TZNAME:EST
DTSTART:20191103T060000
END:STANDARD
BEGIN:DAYLIGHT
TZOFFSETFROM:-0500
TZOFFSETTO:-0400
TZNAME:EDT
DTSTART:20200308T070000
END:DAYLIGHT
BEGIN:STANDARD
TZOFFSETFROM:-0400
TZOFFSETTO:-0500
TZNAME:EST
DTSTART:20201101T060000
END:STANDARD
BEGIN:DAYLIGHT
TZOFFSETFROM:-0500
TZOFFSETTO:-0400
TZNAME:EDT
DTSTART:20210314T070000
END:DAYLIGHT
BEGIN:STANDARD
TZOFFSETFROM:-0400
TZOFFSETTO:-0500
TZNAME:EST
DTSTART:20211107T060000
END:STANDARD
BEGIN:DAYLIGHT
TZOFFSETFROM:-0500
TZOFFSETTO:-0400
TZNAME:EDT
DTSTART:20220313T070000
END:DAYLIGHT
BEGIN:STANDARD
TZOFFSETFROM:-0400
TZOFFSETTO:-0500
TZNAME:EST
DTSTART:20221106T060000
END:STANDARD
BEGIN:DAYLIGHT
TZOFFSETFROM:-0500
TZOFFSETTO:-0400
TZNAME:EDT
DTSTART:20230312T070000
END:DAYLIGHT
BEGIN:STANDARD
TZOFFSETFROM:-0400
TZOFFSETTO:-0500
TZNAME:EST
DTSTART:20231105T060000
END:STANDARD
END:VTIMEZONE
BEGIN:VEVENT
DTSTART;VALUE=DATE:20180212
DTEND;VALUE=DATE:20180213
DTSTAMP:20260425T103044
CREATED:20180202T183533Z
LAST-MODIFIED:20180205T134805Z
UID:778-1518393600-1518479999@www.ocaa.ca
SUMMARY:Bargaining & By-Laws Info Session\, Milton @ 1 pm
DESCRIPTION:To call in: \nLocal to Toronto       416-640-4236 \nToll Free           1-866-558-1525 \nAccess code    6000 \nPW      6060
URL:https://www.ocaa.ca/event/bargaining-laws-info-session-milton-lunch-exact-time-determined/
END:VEVENT
BEGIN:VEVENT
DTSTART;VALUE=DATE:20180212
DTEND;VALUE=DATE:20180213
DTSTAMP:20260425T103044
CREATED:20180202T183651Z
LAST-MODIFIED:20180207T180710Z
UID:779-1518393600-1518479999@www.ocaa.ca
SUMMARY:Bargaining & By-Laws Info Session\, Brampton @ 4:30 pm
DESCRIPTION:To call in: \nLocal to Toronto       416-640-4236 \nToll Free           1-866-558-1525 \nAccess code    6000 \nPW      6060
URL:https://www.ocaa.ca/event/bargaining-laws-info-session-brampton-work-exact-time-determined/
END:VEVENT
BEGIN:VEVENT
DTSTART;VALUE=DATE:20180214
DTEND;VALUE=DATE:20180215
DTSTAMP:20260425T103044
CREATED:20180202T183750Z
LAST-MODIFIED:20180207T145409Z
UID:780-1518566400-1518652799@www.ocaa.ca
SUMMARY:Bargaining & By-Laws Info Session\, 720 Bay @ 12:30 pm
DESCRIPTION:To call in: \nLocal to Toronto       416-640-4236 \nToll Free           1-866-558-1525 \nAccess code    6000 \nPW      6060
URL:https://www.ocaa.ca/event/bargaining-laws-info-session-720-bay-lunch-exact-time-determined/
END:VEVENT
BEGIN:VEVENT
DTSTART;VALUE=DATE:20180215
DTEND;VALUE=DATE:20180216
DTSTAMP:20260425T103044
CREATED:20180202T184130Z
LAST-MODIFIED:20180202T191527Z
UID:781-1518652800-1518739199@www.ocaa.ca
SUMMARY:Bargaining & By-Laws Info Session\, Etobicoke\, 1 pm
DESCRIPTION:To call in: \nLocal to Toronto       416-640-4236 \nToll Free           1-866-558-1525 \nAccess code    6000 \nPW      6060
URL:https://www.ocaa.ca/event/bargaining-laws-info-session-etobicoke-lunch-1-pm/
END:VEVENT
BEGIN:VEVENT
DTSTART;TZID=America/Toronto:20180402T080000
DTEND;TZID=America/Toronto:20180423T170000
DTSTAMP:20260425T103044
CREATED:20180131T162932Z
LAST-MODIFIED:20180131T162932Z
UID:768-1522656000-1524502800@www.ocaa.ca
SUMMARY:OCAA 2018 Elections\, Nominations being accepted
DESCRIPTION:
URL:https://www.ocaa.ca/event/ocaa-2018-elections-nominations-accepted/
END:VEVENT
BEGIN:VEVENT
DTSTART;TZID=America/Toronto:20180424T080000
DTEND;TZID=America/Toronto:20180515T170000
DTSTAMP:20260425T103044
CREATED:20180131T163035Z
LAST-MODIFIED:20180131T163035Z
UID:769-1524556800-1526403600@www.ocaa.ca
SUMMARY:OCAA 2018 Elections\, Campaigning
DESCRIPTION:
URL:https://www.ocaa.ca/event/ocaa-2018-elections-campaigning/
END:VEVENT
BEGIN:VEVENT
DTSTART;TZID=America/Toronto:20180516T090000
DTEND;TZID=America/Toronto:20180523T220000
DTSTAMP:20260425T103044
CREATED:20180131T163155Z
LAST-MODIFIED:20180131T163155Z
UID:770-1526461200-1527112800@www.ocaa.ca
SUMMARY:OCAA 2018 Elections\, Voting
DESCRIPTION:
URL:https://www.ocaa.ca/event/ocaa-2018-elections-voting/
END:VEVENT
BEGIN:VEVENT
DTSTART;VALUE=DATE:20230524
DTEND;VALUE=DATE:20230527
DTSTAMP:20260425T103044
CREATED:20221207T204814Z
LAST-MODIFIED:20230330T155038Z
UID:1529-1684886400-1685145599@www.ocaa.ca
SUMMARY:Spring Plenary Conference 2023\, Blue Mountain
DESCRIPTION:
URL:https://www.ocaa.ca/event/spring-plenary-conference-2023/
END:VEVENT
BEGIN:VEVENT
DTSTART;TZID=America/Toronto:20230524T200000
DTEND;TZID=America/Toronto:20230524T220000
DTSTAMP:20260425T103044
CREATED:20221208T142910Z
LAST-MODIFIED:20221208T142910Z
UID:1562-1684958400-1684965600@www.ocaa.ca
SUMMARY:Annual General Meeting
DESCRIPTION:
URL:https://www.ocaa.ca/event/annual-general-meeting/
END:VEVENT
BEGIN:VEVENT
DTSTART;VALUE=DATE:20230612
DTEND;VALUE=DATE:20230617
DTSTAMP:20260425T103044
CREATED:20221207T204732Z
LAST-MODIFIED:20221207T204732Z
UID:1520-1686528000-1686959999@www.ocaa.ca
SUMMARY:WEEK 1 SUMMER SCHOOL Homicide\, Sentencing\, Technology in Litigation\, Mental Health
DESCRIPTION:
URL:https://www.ocaa.ca/event/week-1-summer-school-homicide-sentencing-technology-in-litigation-mental-health/
END:VEVENT
BEGIN:VEVENT
DTSTART;VALUE=DATE:20230710
DTEND;VALUE=DATE:20230715
DTSTAMP:20260425T103044
CREATED:20221207T204701Z
LAST-MODIFIED:20221207T204701Z
UID:1522-1688947200-1689379199@www.ocaa.ca
SUMMARY:WEEK 2 SUMMER SCHOOL Child Abuse\, Confronting Racism\, Nuts & Bolts\, Impaired Driving\, Sexual Violence
DESCRIPTION:
URL:https://www.ocaa.ca/event/week-2-summer-school-child-abuse-confronting-racism-nuts-bolts-impaired-driving-sexual-violence/
END:VEVENT
BEGIN:VEVENT
DTSTART;VALUE=DATE:20230814
DTEND;VALUE=DATE:20230819
DTSTAMP:20260425T103044
CREATED:20221207T204608Z
LAST-MODIFIED:20221207T204608Z
UID:1525-1691971200-1692403199@www.ocaa.ca
SUMMARY:WEEK 3 SUMMER SCHOOL Intimate Partner & Family Violence\, Human Trafficking\, Search\, Cybercrime\, Financial Crimes
DESCRIPTION:
URL:https://www.ocaa.ca/event/week-3-summer-school-intimate-partner-family-violence-human-trafficking-search-cybercrime-financial-crimes/
END:VEVENT
BEGIN:VEVENT
DTSTART;VALUE=DATE:20230821
DTEND;VALUE=DATE:20230826
DTSTAMP:20260425T103044
CREATED:20221207T204525Z
LAST-MODIFIED:20221207T204525Z
UID:1527-1692576000-1693007999@www.ocaa.ca
SUMMARY:WEEK 4 SUMMER SCHOOL Current Legal Issues\, Trial Advocacy\, Youth Criminal Justice Act\, High Risk Offenders
DESCRIPTION:
URL:https://www.ocaa.ca/event/week-4-summer-school-current-legal-issues-trial-advocacy-youth-criminal-justice-act-high-risk-offenders/
END:VEVENT
END:VCALENDAR